BEGIN:VCALENDAR
VERSION:2.0
PRODID:-//Zrobotyzowani - ECPv6.15.20//NONSGML v1.0//EN
CALSCALE:GREGORIAN
METHOD:PUBLISH
X-WR-CALNAME:Zrobotyzowani
X-ORIGINAL-URL:https://zrobotyzowani.com.pl
X-WR-CALDESC:Wydarzenia dla Zrobotyzowani
REFRESH-INTERVAL;VALUE=DURATION:PT1H
X-Robots-Tag:noindex
X-PUBLISHED-TTL:PT1H
BEGIN:VTIMEZONE
TZID:Europe/Paris
BEGIN:DAYLIGHT
TZOFFSETFROM:+0100
TZOFFSETTO:+0200
TZNAME:CEST
DTSTART:20240331T010000
END:DAYLIGHT
BEGIN:STANDARD
TZOFFSETFROM:+0200
TZOFFSETTO:+0100
TZNAME:CET
DTSTART:20241027T010000
END:STANDARD
BEGIN:DAYLIGHT
TZOFFSETFROM:+0100
TZOFFSETTO:+0200
TZNAME:CEST
DTSTART:20250330T010000
END:DAYLIGHT
BEGIN:STANDARD
TZOFFSETFROM:+0200
TZOFFSETTO:+0100
TZNAME:CET
DTSTART:20251026T010000
END:STANDARD
BEGIN:DAYLIGHT
TZOFFSETFROM:+0100
TZOFFSETTO:+0200
TZNAME:CEST
DTSTART:20260329T010000
END:DAYLIGHT
BEGIN:STANDARD
TZOFFSETFROM:+0200
TZOFFSETTO:+0100
TZNAME:CET
DTSTART:20261025T010000
END:STANDARD
BEGIN:DAYLIGHT
TZOFFSETFROM:+0100
TZOFFSETTO:+0200
TZNAME:CEST
DTSTART:20270328T010000
END:DAYLIGHT
BEGIN:STANDARD
TZOFFSETFROM:+0200
TZOFFSETTO:+0100
TZNAME:CET
DTSTART:20271031T010000
END:STANDARD
END:VTIMEZONE
BEGIN:VEVENT
DTSTART;TZID=Europe/Paris:20260418T080000
DTEND;TZID=Europe/Paris:20260418T200000
DTSTAMP:20260420T202819
CREATED:20260205T161737Z
LAST-MODIFIED:20260215T230743Z
UID:117587-1776499200-1776542400@zrobotyzowani.com.pl
SUMMARY:Ostatnie Krokodyle - pożegnanie lokomotyw EL2 w KWB Konin
DESCRIPTION:To nie będzie zwykła wycieczka — to ostatnie bicie serca kopalnianej kolei. „Ostatnie Krokodyle” to jednorazowe\, limitowane wydarzenie poświęcone lokomotywom EL2\, znanym wśród miłośników kolejnictwa jako „krokodyle”. 18 kwietnia zaprosimy pasjonatów techniki\, fotografów i lokalnych miłośników historii przemysłu na wyjątkowy dzień: wjazdy po liniach kopalnianych\, wejście do hali napraw\, fotostopy w najlepszych miejscach oraz możliwość usłyszenia charakterystycznego\, surowego dźwięku silnika EL2 w naturalnym środowisku. To ostatnia okazja\, by zobaczyć te maszyny w ruchu\, zanim odejdą do muzeów i archiwów. \n\n\n\nDlaczego warto przyjechać: \n\n\n\n\nHistoryczny moment: pożegnanie lokomotyw\, które przez dekady służyły kopalniom.\n\n\n\nDostęp do miejsc niedostępnych na co dzień: hala napraw\, bocznice i punkty widokowe przygotowane specjalnie dla uczestników.\n\n\n\nFotografia i dźwięk: zaplanowane fotostopy i momenty\, w których krokodyl będzie przejeżdżał w pełnej krasie — idealne dla fotografów i filmowców.\n\n\n\nOpowieści i kontekst: krótkie prelekcje o historii EL2 i roli kolei w górnictwie prowadzone przez ekspertów i pracowników kopalni.\n\n\n\n\nUwaga organizacyjna: liczba miejsc będzie ograniczona; wydarzenie odbywa się na terenie przemysłowym — uczestnicy muszą stosować się do zasad BHP i instrukcji gospodarza terenu. Rejestracja i szczegóły logistyczne zostaną podane wkrótce.
URL:https://zrobotyzowani.com.pl/ostatnie-krokodyle-koniec-epoki-kolei-gorniczych-w-kwb-konin/
LOCATION:PAK Kopalnia Węgla Brunatnego Konin\, ul. 600-lecia 9\, 62-540 Kleczew\, Kleczew\, Poland
ATTACH;FMTTYPE=image/webp:https://zrobotyzowani.com.pl/wp-content/uploads/2026/02/Krokodyle-2026-event-KV-poziome-V2.webp
ORGANIZER;CN="Zrobotyzowani - Techniczne Podr%C3%B3%C5%BCe":MAILTO:hello@zrobotyzowani.com.pl
END:VEVENT
BEGIN:VEVENT
DTSTART;TZID=Europe/Paris:20260411T090000
DTEND;TZID=Europe/Paris:20260411T170000
DTSTAMP:20260420T202819
CREATED:20260205T145623Z
LAST-MODIFIED:20260205T145657Z
UID:117578-1775898000-1775926800@zrobotyzowani.com.pl
SUMMARY:HopsVoyage: Okocimskie Tango vol.2
DESCRIPTION:HopsVoyage – Okocimskie Tango vol. 2 – Atuty oferty \n\n\n\nCzy można w jednym intensywnym dniu przejść drogę od Przemysłu 4.0\, przez XIX‑wieczne dziedzictwo\, aż po degustację kultowego piwa\, które od dekad buduje legendę polskiego browarnictwa? My odpowiadamy: można – i to w wielkim stylu. Właśnie po to powstało HopsVoyage: Okocimskie Tango. 🍺🔥 \n\n\n\nHopsVoyage: Okocimskie Tango vol. 2 to jednodniowa wycieczka techniczna 18+ w formule turystyki przemysłowej\, łącząca zwiedzanie zakładów produkcyjnych z historią Okocimia i rodu Goetzów. W programie są Browar Okocim (pełna ścieżka produkcyjna)\, CANPACK w Brzesku (nowoczesne linie produkcji puszek) oraz kluczowe punkty dziedzictwa w Okocimiu: Parafia pw. Trójcy Przenajświętszej i Pałac Goetzów. To wydarzenie dla osób\, które chcą zobaczyć „od środka”\, jak działa przemysł i jak wygląda produkcja piwa w dużym browarze. \n\n\n\nTo wydarzenie to esencja stylu Zrobotyzowanych: kameralnie\, merytorycznie\, z dostępem do miejsc zamkniętych dla zwykłych turystów\, prowadzone przez ludzi\, którzy naprawdę znają temat od środka – historyków\, inżynierów\, specjalistów produkcji\, a w samym Browarze Okocim przez piwowara i Kierownika Produkcji – Adama Surmacza. \n\n\n\nPartnerami są: SMBO (Stowarzyszenie Miłośników Browaru Okocim)\, blog Piwna Zwrotnica\, a gospodarzami – Carlsberg Polska\, CANPACK i Browar Okocim. Jeśli kochasz turystykę przemysłową\, techniczne wycieczki\, zakłady produkcyjne i miejsca „za drzwiami\, które zwykle są zamknięte” – to jest Twój klimat. 😎🏭
URL:https://zrobotyzowani.com.pl/event/hopsvoyage-okocimskie-tango-vol-2/
LOCATION:Browar Okocim\, Browarna 14\, Brzesko\, 32-800\, Poland
CATEGORIES:Nadchodzące wydarzenia
ATTACH;FMTTYPE=image/webp:https://zrobotyzowani.com.pl/wp-content/uploads/2026/02/Zrobotyzowani-Okocimskie-Tango-Vol-2-WordPress.webp
ORGANIZER;CN="Zrobotyzowani - Techniczne Podr%C3%B3%C5%BCe":MAILTO:hello@zrobotyzowani.com.pl
END:VEVENT
BEGIN:VEVENT
DTSTART;TZID=Europe/Paris:20250913T080000
DTEND;TZID=Europe/Paris:20250913T170000
DTSTAMP:20260420T202819
CREATED:20250424T202008Z
LAST-MODIFIED:20250424T202027Z
UID:116336-1757750400-1757782800@zrobotyzowani.com.pl
SUMMARY:13 IX 2025 - HopsVoyage: Słodownia Strzegom
DESCRIPTION:Dołącz do nas w sobotę\, 13 września 2025 roku i odkryj tajemnice Słodowni Strzegom z HopsVoyage! Zwiedzanie i technika w sercu przemysłu słodowniczego.
URL:https://zrobotyzowani.com.pl/hopsvoyage-slodownia-strzegom/#new_tab
ATTACH;FMTTYPE=image/jpeg:https://zrobotyzowani.com.pl/wp-content/uploads/2025/04/Slodownia-Strzegom-HopsVoyage.jpg
ORGANIZER;CN="Zrobotyzowani - Techniczne Podr%C3%B3%C5%BCe":MAILTO:hello@zrobotyzowani.com.pl
END:VEVENT
BEGIN:VEVENT
DTSTART;TZID=Europe/Paris:20250705T080000
DTEND;TZID=Europe/Paris:20250705T170000
DTSTAMP:20260420T202819
CREATED:20250613T143740Z
LAST-MODIFIED:20250613T143744Z
UID:116608-1751702400-1751734800@zrobotyzowani.com.pl
SUMMARY:5 VII 2025 – Sterowanie Ruchem Kolejowym w KWB Konin
DESCRIPTION:5 VII 2025 – Sterowanie Ruchem Kolejowym w KWB KoninDołącz do nas w sobotę\, 5 lipca 2025 roku! Wejdź za kulisy sterowania ruchem kolejowym w Kopalni Węgla Brunatnego Konin. Zrobotyzowani zapraszają na wyjątkową wycieczkę – dowiedz się\, dlaczego pociągi jeżdżą bezpiecznie!
URL:https://zrobotyzowani.com.pl/sterowanie-ruchem-kolejowym-w-kwb-konin-2025/#new_tab
LOCATION:PAK Kopalnia Węgla Brunatnego Konin\, ul. 600-lecia 9\, 62-540 Kleczew\, Kleczew\, Poland
ATTACH;FMTTYPE=image/png:https://zrobotyzowani.com.pl/wp-content/uploads/2025/05/2025-07-05-SRK-Konin-KV_Promocyjna-WordPress-scaled.png
ORGANIZER;CN="Zrobotyzowani - Techniczne Podr%C3%B3%C5%BCe":MAILTO:hello@zrobotyzowani.com.pl
END:VEVENT
BEGIN:VEVENT
DTSTART;TZID=Europe/Paris:20250523T080000
DTEND;TZID=Europe/Paris:20250523T170000
DTSTAMP:20260420T202819
CREATED:20250424T200905Z
LAST-MODIFIED:20250424T201554Z
UID:116324-1747987200-1748019600@zrobotyzowani.com.pl
SUMMARY:23 V 2025 - Turbiny Odkryte: Za kulisami największego systemu hydroenergetycznego w Polsce - ZEW Solina-Myczkowce
DESCRIPTION:Odkryj tajemnice elektrowni wodnych Solina i Myczkowce oraz PKL Solina! Zrobotyzowani zapraszają na unikalną wycieczkę techniczną już 23 maja 2025.
URL:https://zrobotyzowani.com.pl/zew-solina-2025/#new_tab
ATTACH;FMTTYPE=image/jpeg:https://zrobotyzowani.com.pl/wp-content/uploads/2025/04/Turbiny-Odkryte-ZEW-Solina-Myczkowce-WordPress.jpg
ORGANIZER;CN="Zrobotyzowani - Techniczne Podr%C3%B3%C5%BCe":MAILTO:hello@zrobotyzowani.com.pl
END:VEVENT
BEGIN:VEVENT
DTSTART;TZID=Europe/Paris:20250510T080000
DTEND;TZID=Europe/Paris:20250510T170000
DTSTAMP:20260420T202819
CREATED:20250207T204619Z
LAST-MODIFIED:20250424T201805Z
UID:115644-1746864000-1746896400@zrobotyzowani.com.pl
SUMMARY:HopsVoyage: Okocimskie Tango
DESCRIPTION:
URL:https://zrobotyzowani.com.pl/hopsvoyage-okocim-4-2025/#new_tab
ATTACH;FMTTYPE=image/jpeg:https://zrobotyzowani.com.pl/wp-content/uploads/2025/02/HopsVoyage_Okocimskie-Tango-scaled.jpg
ORGANIZER;CN="Zrobotyzowani - Techniczne Podr%C3%B3%C5%BCe":MAILTO:hello@zrobotyzowani.com.pl
END:VEVENT
BEGIN:VEVENT
DTSTART;TZID=Europe/Paris:20250329T100000
DTEND;TZID=Europe/Paris:20250329T160000
DTSTAMP:20260420T202819
CREATED:20250205T110621Z
LAST-MODIFIED:20250205T110800Z
UID:115547-1743242400-1743264000@zrobotyzowani.com.pl
SUMMARY:Tajemnice Kolei Górniczych: Fotospacer po Kolejowym Zapleczu KWB Konin
DESCRIPTION:Dołącz do nas w sobotę\, 29 marca 2025 roku i odkryj tajemnice Kolei Górniczych Kopalni Węgla Brunatnego „Konin”!Weź udział w wyjątkowym fotospacerze po warsztatach kolejowych w Kazimierzu Biskupim\, gdzie czekają na Ciebie niespotykane lokomotywy EL2 „Krokodyle”\, unikatowe wagony 410V i VAP oraz fascynujące zaplecze techniczne Kolei Górniczych. Zajrzyj do hali napraw wagonów\, oddziału eksploatacji lokomotyw elektrycznych i spalinowych\, a także nastawni – kluczowego elementu infrastruktury kolejowej.
URL:https://zrobotyzowani.com.pl/konin-kolej-2025/#new_tab
LOCATION:PAK Kopalnia Węgla Brunatnego Konin\, ul. 600-lecia 9\, 62-540 Kleczew\, Kleczew\, Poland
ATTACH;FMTTYPE=image/png:https://zrobotyzowani.com.pl/wp-content/uploads/2025/01/2025-03-29-Tajemnice-Kolei-Gorniczych-WordPress-poziom.png
ORGANIZER;CN="Zrobotyzowani - Techniczne Podr%C3%B3%C5%BCe":MAILTO:hello@zrobotyzowani.com.pl
END:VEVENT
BEGIN:VEVENT
DTSTART;TZID=Europe/Paris:20250328T173000
DTEND;TZID=Europe/Paris:20250328T210000
DTSTAMP:20260420T202819
CREATED:20250322T082009Z
LAST-MODIFIED:20250322T082013Z
UID:115810-1743183000-1743195600@zrobotyzowani.com.pl
SUMMARY:28.III.2025 Podziemna forteca: Metro jako schron w czasach zagrożenia
DESCRIPTION:
URL:https://zrobotyzowani.com.pl/event/28-iii-2025-podziemna-forteca-metro-jako-schron-w-czasach-zagrozenia/
LOCATION:WIM PW Wołoska 141\, WIM PW Wołoska 141
ATTACH;FMTTYPE=image/png:https://zrobotyzowani.com.pl/wp-content/uploads/2025/03/Metro-jako-schron-w-czasach-zagrozenia-png.png
ORGANIZER;CN="Zrobotyzowani - Techniczne Podr%C3%B3%C5%BCe":MAILTO:hello@zrobotyzowani.com.pl
END:VEVENT
BEGIN:VEVENT
DTSTART;TZID=Europe/Paris:20250328T100000
DTEND;TZID=Europe/Paris:20250328T160000
DTSTAMP:20260420T202819
CREATED:20250205T112551Z
LAST-MODIFIED:20250205T112554Z
UID:115553-1743156000-1743177600@zrobotyzowani.com.pl
SUMMARY:Industrialne Impresje: Fotospacer po Technicznym Zapleczu KWB Konin
DESCRIPTION:Dołącz do nas w piątek\, 28 marca 2025 roku i odkryj tajemnice Kopalni Węgla Brunatnego „Konin”! Zwiedź warsztaty mechaniczne i elektryczne w Kleczewie\, weź udział w unikalnym fotospacerze i uchwyć industrialne piękno zakładu. Nie przegap tej wyjątkowej okazji!
URL:https://zrobotyzowani.com.pl/konin-warsztaty-2025/#new_tab
LOCATION:PAK Kopalnia Węgla Brunatnego Konin\, ul. 600-lecia 9\, 62-540 Kleczew\, Kleczew\, Poland
ATTACH;FMTTYPE=image/png:https://zrobotyzowani.com.pl/wp-content/uploads/2025/01/2025-03-28-Industrialne-Impresje-promo-WordPress.png
ORGANIZER;CN="Zrobotyzowani - Techniczne Podr%C3%B3%C5%BCe":MAILTO:hello@zrobotyzowani.com.pl
END:VEVENT
BEGIN:VEVENT
DTSTART;TZID=Europe/Paris:20250315T100000
DTEND;TZID=Europe/Paris:20250315T160000
DTSTAMP:20260420T202819
CREATED:20250205T155018Z
LAST-MODIFIED:20250223T133941Z
UID:115575-1742032800-1742054400@zrobotyzowani.com.pl
SUMMARY:HopsVoyage: Browarniczym Szlakiem Chorzowa
DESCRIPTION:Dołącz do nas w sobotę\, 15 marca 2025 roku i wyrusz z nami w niezapomnianą podróż po najlepszych browarach Chorzowa! Zwiedź Browar Reden\, Browar ReCraft i Browar Przystań\, poznaj tajniki piwowarstwa\, skosztuj wyjątkowych piw i poczuj klimat piwnej tradycji regionu.
URL:https://zrobotyzowani.com.pl/hopsvoyage-chorzow-1-2025/#new_tab
LOCATION:Browar Reden\, Inwalidzka 26\, 41-506 Chorzów\, Chorzów\, 41-506
ATTACH;FMTTYPE=image/png:https://zrobotyzowani.com.pl/wp-content/uploads/2025/02/2025-03-15-HV-Browarniczym-Szlakiem-Chorzowa-KV_Promocyjna-WordPress-1.png
ORGANIZER;CN="HopsVoyage":MAILTO:hello@zrobotyzowani.com.pl
END:VEVENT
END:VCALENDAR